BEGIN:VCALENDAR
VERSION:2.0
PRODID:-//wp-events-plugin.com//7.2.3//EN
TZID:Europe/Berlin
X-WR-TIMEZONE:Europe/Berlin
BEGIN:VEVENT
UID:36@turnen.fc-wernberg.de
DTSTART;TZID=Europe/Berlin:20250116T170000
DTEND;TZID=Europe/Berlin:20250116T180000
DTSTAMP:20241122T172119Z
URL:https://turnen.fc-wernberg.de/events/pilates-beginner-faszien-fit-4/
SUMMARY:Pilates Beginner - Faszien Fit 
DESCRIPTION:Donnerstag\, 17.00 Uhr - 10 Kurseinheiten\nPilates-Instructor:
  Uschi Seegerer   Tel. 09606/1591\n&nbsp\;\n\nAussage von J. Pilates: Di
 eses Körpertraining stabilisiert und mobilisiert\ndeine Körpermitte\, pr
 imär deine Beckenboden- Bauch- und\nRückenmuskulatur\, immer verbunden m
 it der Atmung und gibt deinen\nFaszien Länge. Kommt zum Einsatz bei Rück
 enbeschwerden und\nVerspannungen jeglicher Art.
CATEGORIES:PilatesBeginner,Veranstaltungen
LOCATION:#_LOCATIONNAME\, #_LOCATIONFULLLINE\, #_LOCATIONCOUNTRY
X-APPLE-STRUCTURED-LOCATION;VALUE=URI;X-ADDRESS=#_LOCATIONFULLLINE\, #_LOCA
 TIONCOUNTRY;X-APPLE-RADIUS=100;X-TITLE=#_LOCATIONNAME:geo:0,0
END:VEVENT
BEGIN:VTIMEZONE
TZID:Europe/Berlin
X-LIC-LOCATION:Europe/Berlin
BEGIN:STANDARD
DTSTART:20241027T020000
TZOFFSETFROM:+0200
TZOFFSETTO:+0100
TZNAME:CET
END:STANDARD
END:VTIMEZONE
END:VCALENDAR